BEGIN:VCALENDAR
VERSION:2.0
PRODID:-//Women and Gender Studies Institute - ECPv6.15.20//NONSGML v1.0//EN
CALSCALE:GREGORIAN
METHOD:PUBLISH
X-ORIGINAL-URL:https://wgsi.utoronto.ca
X-WR-CALDESC:Events for Women and Gender Studies Institute
REFRESH-INTERVAL;VALUE=DURATION:PT1H
X-Robots-Tag:noindex
X-PUBLISHED-TTL:PT1H
BEGIN:VTIMEZONE
TZID:America/Toronto
BEGIN:DAYLIGHT
TZOFFSETFROM:-0500
TZOFFSETTO:-0400
TZNAME:EDT
DTSTART:20140309T070000
END:DAYLIGHT
BEGIN:STANDARD
TZOFFSETFROM:-0400
TZOFFSETTO:-0500
TZNAME:EST
DTSTART:20141102T060000
END:STANDARD
BEGIN:DAYLIGHT
TZOFFSETFROM:-0500
TZOFFSETTO:-0400
TZNAME:EDT
DTSTART:20150308T070000
END:DAYLIGHT
BEGIN:STANDARD
TZOFFSETFROM:-0400
TZOFFSETTO:-0500
TZNAME:EST
DTSTART:20151101T060000
END:STANDARD
BEGIN:DAYLIGHT
TZOFFSETFROM:-0500
TZOFFSETTO:-0400
TZNAME:EDT
DTSTART:20160313T070000
END:DAYLIGHT
BEGIN:STANDARD
TZOFFSETFROM:-0400
TZOFFSETTO:-0500
TZNAME:EST
DTSTART:20161106T060000
END:STANDARD
END:VTIMEZONE
BEGIN:VEVENT
DTSTART;TZID=America/Toronto:20150123T090000
DTEND;TZID=America/Toronto:20150215T170000
DTSTAMP:20260422T122924
CREATED:20150113T202028Z
LAST-MODIFIED:20150113T202028Z
UID:5927-1422003600-1424019600@wgsi.utoronto.ca
SUMMARY:Diasporic Intimacies:  Queer Filipinos/as and Canadian Imaginaries
DESCRIPTION:These groundbreaking events bring together academics\, artists\, activists\, and community members as they discuss the contributions of queer Filipinos/as to Canadian culture & society.  (see poster for more details)\nCo-sponsored by WGSI\n  \n 
URL:https://wgsi.utoronto.ca/event/diasporic-intimacies-queer-filipinosas-canadian-imaginaries/
ATTACH;FMTTYPE=image/jpeg:https://wgsi.utoronto.ca/wp-content/uploads/2015/01/Diasporic-Intimacies-Poster-Small2.jpg
END:VEVENT
BEGIN:VEVENT
DTSTART;TZID=America/Toronto:20150204T150000
DTEND;TZID=America/Toronto:20150204T170000
DTSTAMP:20260422T122924
CREATED:20141203T165307Z
LAST-MODIFIED:20150113T174634Z
UID:5879-1423062000-1423069200@wgsi.utoronto.ca
SUMMARY:WGS Research Seminar - Prof. Rosi Braidotti
DESCRIPTION:Four Theses on Posthuman Feminism\nThis paper outlines the main tenets of feminism after the posthuman turn. The four theses are: that feminism is not (only) a humanism; that anthropocentrism has been displaced and Anthropos is now off-centre; that non-human life or Zoe is the ruling principle and that sexuality is a force beyond gender. The paper will explore these four theses in the context of a critical cartography of advanced capitalism\, read with Foucault\, Deleuze and Guattari and feminist theory. It will especially analyse the implications of the posthuman turn for theories and practices of feminist subject-formation\, political praxis and ethical relations in a technologically linked but profoundly fractured globalised world. The main argument is that the posthuman is neither post-political\, nor outside power relations and that it does not mark the end of political agency\, but a re-casting of it in the direction of a nomadic relational ontology.
URL:https://wgsi.utoronto.ca/event/wgs-research-seminar-prof-rosi-braidotti/
LOCATION:JHB 100A\, Jackman Humanities Building\, 170 St. George Street\, Toronto\, Canada
END:VEVENT
END:VCALENDAR