BEGIN:VCALENDAR
VERSION:2.0
PRODID:-//Women and Gender Studies Institute - ECPv6.15.20//NONSGML v1.0//EN
CALSCALE:GREGORIAN
METHOD:PUBLISH
X-WR-CALNAME:Women and Gender Studies Institute
X-ORIGINAL-URL:https://wgsi.utoronto.ca
X-WR-CALDESC:Events for Women and Gender Studies Institute
REFRESH-INTERVAL;VALUE=DURATION:PT1H
X-Robots-Tag:noindex
X-PUBLISHED-TTL:PT1H
BEGIN:VTIMEZONE
TZID:America/Toronto
BEGIN:DAYLIGHT
TZOFFSETFROM:-0500
TZOFFSETTO:-0400
TZNAME:EDT
DTSTART:20220313T070000
END:DAYLIGHT
BEGIN:STANDARD
TZOFFSETFROM:-0400
TZOFFSETTO:-0500
TZNAME:EST
DTSTART:20221106T060000
END:STANDARD
BEGIN:DAYLIGHT
TZOFFSETFROM:-0500
TZOFFSETTO:-0400
TZNAME:EDT
DTSTART:20230312T070000
END:DAYLIGHT
BEGIN:STANDARD
TZOFFSETFROM:-0400
TZOFFSETTO:-0500
TZNAME:EST
DTSTART:20231105T060000
END:STANDARD
BEGIN:DAYLIGHT
TZOFFSETFROM:-0500
TZOFFSETTO:-0400
TZNAME:EDT
DTSTART:20240310T070000
END:DAYLIGHT
BEGIN:STANDARD
TZOFFSETFROM:-0400
TZOFFSETTO:-0500
TZNAME:EST
DTSTART:20241103T060000
END:STANDARD
END:VTIMEZONE
BEGIN:VEVENT
DTSTART;TZID=America/Toronto:20230614T183000
DTEND;TZID=America/Toronto:20230614T200000
DTSTAMP:20260420T155234
CREATED:20230511T171342Z
LAST-MODIFIED:20230511T171342Z
UID:16339-1686767400-1686772800@wgsi.utoronto.ca
SUMMARY:Indo-Caribbean Women Past and Present: A Panel Presentation and Moderated Discussion
DESCRIPTION:This panel will address the broad scope of Indo-Caribbean women’s lived experiences in the social\, political\, and cultural realms from the time of indentureship\, through times of resistance in the 1960s to present day. Each panelist will respond to the exhibition\, Reclaimed: Indo-Caribbean HerStories. Ramabai Espinet will reflect on the jahaji legacies of “Coolie Belles” in Caribbean nation states and their expanding diasporas. Nalini Mohabir will trace the trajectory of the role of Indo-Caribbean women’s role in politics shaped by labour movements in the sugar industry. Joy Mahabir will discuss the literal and symbolic meanings of Indo-Caribbean women’s jewelry. \nPanelists: \nRamabai Espinet\, Caribbean Studies\, University of Toronto.\nShort bio: Dr. Ramabai Espinet is a writer of poetry\, prose\, and essays\, and a retired academic\, continuing her teaching at the University of Toronto in the Caribbean Studies Program. Her publications include The Swinging Bridge\, a novel\, and Nuclear Seasons\, poetry. She is the editor of CreationFire\, an anthology of Caribbean women’s poetry in several languages. Coming Home is a documentary film (Leda Serene) on her work. \nNalini Mohabir\, Concordia University\nShort bio: Dr. Nalini Mohabir is an associate professor in the department of Geography\, Planning\, and Environment at Concordia University. She teaches in the fields of feminist and postcolonial migration geographies\, and her research is primarily in the field of Caribbean studies\, with a focus on indentureship. \nJoy Mahabir : Suffolk County Community College of the State University of New York\nShort Bio: Dr. Joy Mahabir is a Professor in the department of English and Humanities. Her published work include essays on Caribbean literature\, visual arts\, calypso and chutney music\, and Indo-Caribbean jewelry. \nModerator: Alissa Trotz\, Women in Gender Studies\, University of Toronto\nShort Bio: Dr. Alissa Trotz is a Professor of Caribbean Studies at New College and the Director of Women and Gender Studies at the University of Toronto. She is also Affiliate Faculty at the University of the West Indies\, Cave Hill\, Barbados. \nPanel Presenting Partners: Women in Gender Studies at the University of Toronto\nCaribbean Studies\, at the University of Toronto \nPresented by Gardiner Museum
URL:https://wgsi.utoronto.ca/event/indo-caribbean-women-past-and-present-a-panel-presentation-and-moderated-discussion/
LOCATION:Gardiner Museum\, 111 Queen's Park\, Toronto\, Ontario\, M5S2C7
ATTACH;FMTTYPE=image/jpeg:https://wgsi.utoronto.ca/wp-content/uploads/2023/05/Indo-Caribbean-Women-Past-and-Present-Instagram.jpg
END:VEVENT
END:VCALENDAR