BEGIN:VCALENDAR
VERSION:2.0
PRODID:-//Women and Gender Studies Institute - ECPv6.15.20//NONSGML v1.0//EN
CALSCALE:GREGORIAN
METHOD:PUBLISH
X-WR-CALNAME:Women and Gender Studies Institute
X-ORIGINAL-URL:https://wgsi.utoronto.ca
X-WR-CALDESC:Events for Women and Gender Studies Institute
REFRESH-INTERVAL;VALUE=DURATION:PT1H
X-Robots-Tag:noindex
X-PUBLISHED-TTL:PT1H
BEGIN:VTIMEZONE
TZID:America/Toronto
BEGIN:DAYLIGHT
TZOFFSETFROM:-0500
TZOFFSETTO:-0400
TZNAME:EDT
DTSTART:20210314T070000
END:DAYLIGHT
BEGIN:STANDARD
TZOFFSETFROM:-0400
TZOFFSETTO:-0500
TZNAME:EST
DTSTART:20211107T060000
END:STANDARD
BEGIN:DAYLIGHT
TZOFFSETFROM:-0500
TZOFFSETTO:-0400
TZNAME:EDT
DTSTART:20220313T070000
END:DAYLIGHT
BEGIN:STANDARD
TZOFFSETFROM:-0400
TZOFFSETTO:-0500
TZNAME:EST
DTSTART:20221106T060000
END:STANDARD
BEGIN:DAYLIGHT
TZOFFSETFROM:-0500
TZOFFSETTO:-0400
TZNAME:EDT
DTSTART:20230312T070000
END:DAYLIGHT
BEGIN:STANDARD
TZOFFSETFROM:-0400
TZOFFSETTO:-0500
TZNAME:EST
DTSTART:20231105T060000
END:STANDARD
END:VTIMEZONE
BEGIN:VEVENT
DTSTART;TZID=America/Toronto:20221007T140000
DTEND;TZID=America/Toronto:20221007T160000
DTSTAMP:20260420T154625
CREATED:20220919T205014Z
LAST-MODIFIED:20220919T205014Z
UID:15630-1665151200-1665158400@wgsi.utoronto.ca
SUMMARY:COLLOQUIUM SERIES – Jafari Allen
DESCRIPTION:Stuart Hall has already told us in his classic essay “Cultural Identity and Diaspora:”  “…all discourse is ‘placed’\, and the heart has its reasons.” \nThe concept “diaspora” leaves us reaching for something else. Here\, we propose Black/queerpolis as a supplement. After the Atlantic revolutions and Maurice Bishop\, after structural adjustment\, after Reagan\, Thatcher\, AIDS\, and crack (and of course there is no closure to any of these “afters”)\, after “diaspora” but before reparations and before freedom; there is Black/queerpolis. It represents the ongoing process of composing a distinct and instructive global counterpublic articulated through “worlds in motion.” Here a triangular trade of affect\, materiality\, and historicity is held in tension by the force of desire. In this engagement\, we will meditate on Black/queerpolis—when is it? How might we best narrate it? Why? For\, or to\, whom? \nMore information here
URL:https://wgsi.utoronto.ca/event/colloquium-series-jafari-allen/
LOCATION:William Doo Auditorium\, 45 Willcocks Street\, Toronto\, Ontario\, Canada
ATTACH;FMTTYPE=image/png:https://wgsi.utoronto.ca/wp-content/uploads/2022/09/Jafari-Allen-Poster-e1663620259217.png
END:VEVENT
END:VCALENDAR