BEGIN:VCALENDAR
VERSION:2.0
PRODID:-//Women and Gender Studies Institute - ECPv6.15.20//NONSGML v1.0//EN
CALSCALE:GREGORIAN
METHOD:PUBLISH
X-ORIGINAL-URL:https://wgsi.utoronto.ca
X-WR-CALDESC:Events for Women and Gender Studies Institute
REFRESH-INTERVAL;VALUE=DURATION:PT1H
X-Robots-Tag:noindex
X-PUBLISHED-TTL:PT1H
BEGIN:VTIMEZONE
TZID:America/Toronto
BEGIN:DAYLIGHT
TZOFFSETFROM:-0500
TZOFFSETTO:-0400
TZNAME:EDT
DTSTART:20230312T070000
END:DAYLIGHT
BEGIN:STANDARD
TZOFFSETFROM:-0400
TZOFFSETTO:-0500
TZNAME:EST
DTSTART:20231105T060000
END:STANDARD
BEGIN:DAYLIGHT
TZOFFSETFROM:-0500
TZOFFSETTO:-0400
TZNAME:EDT
DTSTART:20240310T070000
END:DAYLIGHT
BEGIN:STANDARD
TZOFFSETFROM:-0400
TZOFFSETTO:-0500
TZNAME:EST
DTSTART:20241103T060000
END:STANDARD
BEGIN:DAYLIGHT
TZOFFSETFROM:-0500
TZOFFSETTO:-0400
TZNAME:EDT
DTSTART:20250309T070000
END:DAYLIGHT
BEGIN:STANDARD
TZOFFSETFROM:-0400
TZOFFSETTO:-0500
TZNAME:EST
DTSTART:20251102T060000
END:STANDARD
END:VTIMEZONE
BEGIN:VEVENT
DTSTART;TZID=America/Toronto:20240131T160000
DTEND;TZID=America/Toronto:20240131T180000
DTSTAMP:20260422T214923
CREATED:20231025T184806Z
LAST-MODIFIED:20240131T165450Z
UID:17367-1706716800-1706724000@wgsi.utoronto.ca
SUMMARY:50 Years of Women and Gender Studies at UofT: A Panel Discussion
DESCRIPTION:RSVP uoft.me/wgsi50-uoft\nJoin us for an evening of reflection and storytelling past\, present and futures of Women and Gender Studies\, with an inter-generational panel of faculty and students. \nSpeakers:\nCeta Ramkhalawansingh\, Mary Nyquist\, Shahrzad Mojab\, Rinaldo Walcott\, Joan Simalchik\, Connie Guberman\, Mary Kay Bachour\, Nael Bhanji\, Casey Mecija\, Angie Fazekas \nThis event is a part of the Women & Gender Studies 50th Anniversary programming taking place over the course of the 2023-2024 academic year. By RSVPing\, you are consenting to the WGSI sending you more information about this event once it becomes available. For more information about the WGSI’s history\, visit www.wgsi.utoronto.ca | Co-Sponsored by the Dean’s Office\, Faculty of Arts and Science; New College
URL:https://wgsi.utoronto.ca/event/wgsi50-uoft/
LOCATION:William Doo Auditorium\, 45 Willcocks Street\, Toronto\, Ontario\, Canada
CATEGORIES:50 Years of WGSI at UofT
ATTACH;FMTTYPE=image/png:https://wgsi.utoronto.ca/wp-content/uploads/2023/12/Jan-31-Banner.png
END:VEVENT
END:VCALENDAR