BEGIN:VCALENDAR
VERSION:2.0
PRODID:-//Women and Gender Studies Institute - ECPv6.15.20//NONSGML v1.0//EN
CALSCALE:GREGORIAN
METHOD:PUBLISH
X-WR-CALNAME:Women and Gender Studies Institute
X-ORIGINAL-URL:https://wgsi.utoronto.ca
X-WR-CALDESC:Events for Women and Gender Studies Institute
REFRESH-INTERVAL;VALUE=DURATION:PT1H
X-Robots-Tag:noindex
X-PUBLISHED-TTL:PT1H
BEGIN:VTIMEZONE
TZID:America/Toronto
BEGIN:DAYLIGHT
TZOFFSETFROM:-0500
TZOFFSETTO:-0400
TZNAME:EDT
DTSTART:20240310T070000
END:DAYLIGHT
BEGIN:STANDARD
TZOFFSETFROM:-0400
TZOFFSETTO:-0500
TZNAME:EST
DTSTART:20241103T060000
END:STANDARD
BEGIN:DAYLIGHT
TZOFFSETFROM:-0500
TZOFFSETTO:-0400
TZNAME:EDT
DTSTART:20250309T070000
END:DAYLIGHT
BEGIN:STANDARD
TZOFFSETFROM:-0400
TZOFFSETTO:-0500
TZNAME:EST
DTSTART:20251102T060000
END:STANDARD
BEGIN:DAYLIGHT
TZOFFSETFROM:-0500
TZOFFSETTO:-0400
TZNAME:EDT
DTSTART:20260308T070000
END:DAYLIGHT
BEGIN:STANDARD
TZOFFSETFROM:-0400
TZOFFSETTO:-0500
TZNAME:EST
DTSTART:20261101T060000
END:STANDARD
END:VTIMEZONE
BEGIN:VEVENT
DTSTART;TZID=America/Toronto:20251105T120000
DTEND;TZID=America/Toronto:20251105T130000
DTSTAMP:20260421T031949
CREATED:20251030T203718Z
LAST-MODIFIED:20251030T204703Z
UID:20884-1762344000-1762347600@wgsi.utoronto.ca
SUMMARY:Urban form\, Gender and Environmental In/Justice
DESCRIPTION:Guest speaker: Dr. Subina Shrestha\, PhD\, postdoctoral researcher\, CERC NEST\, University of Toronto Scarborough \nThis event is a part of The Gender and Environmental (In)Justice Lecture Series\, which is funded and supported by the New College Initiatives Fund and the Women & Gender Studies Institute of the University of Toronto.
URL:https://wgsi.utoronto.ca/event/gei-nov5/
LOCATION:371 Bloor Street West\, Room FE230
CATEGORIES:Co-Sponsored by WGSI,Gender and Environmental (In)Justice Series
ATTACH;FMTTYPE=image/png:https://wgsi.utoronto.ca/wp-content/uploads/2025/10/5.png
END:VEVENT
BEGIN:VEVENT
DTSTART;TZID=America/Toronto:20251112T114500
DTEND;TZID=America/Toronto:20251112T130000
DTSTAMP:20260421T031949
CREATED:20251030T204008Z
LAST-MODIFIED:20251030T204711Z
UID:20890-1762947900-1762952400@wgsi.utoronto.ca
SUMMARY:Participatory mapping through a gender lens: Advancing urban planning and socio-environmental justice in Brazil’s informal settlements
DESCRIPTION:Guest speaker: Dr. Carolina Carvalho\, PhD\, researcher and practitioner\, University of Victoria\, BC \nRSVP at uoft.me/gei-nov12 \nThe Gender and Environmental (In)Justice Lecture Series is funded and supported by the New College Initiatives Fund and the Women & Gender Studies Institute of the University of Toronto.
URL:https://wgsi.utoronto.ca/event/gei-nov12/
LOCATION:Online via Zoom
CATEGORIES:Co-Sponsored by WGSI,Gender and Environmental (In)Justice Series
ATTACH;FMTTYPE=image/png:https://wgsi.utoronto.ca/wp-content/uploads/2025/10/6.png
END:VEVENT
BEGIN:VEVENT
DTSTART;TZID=America/Toronto:20251112T160000
DTEND;TZID=America/Toronto:20251112T173000
DTSTAMP:20260421T031949
CREATED:20250905T191022Z
LAST-MODIFIED:20251030T155002Z
UID:20676-1762963200-1762968600@wgsi.utoronto.ca
SUMMARY:Research Seminar: Laura Helton
DESCRIPTION:WGSI Research Seminar | Laura E. Helton \nRoom 108N\, 1 Devonshire Place\nNov 12 from 4pm to 5:30pm EST\nRSVP here
URL:https://wgsi.utoronto.ca/event/research-seminar-laura-helton/
LOCATION:108N\, North House\, Munk School of Global Affairs 1 Devonshire Place
CATEGORIES:WGS Research Seminar,WGSI
END:VEVENT
BEGIN:VEVENT
DTSTART;TZID=America/Toronto:20251119T114500
DTEND;TZID=America/Toronto:20251119T130000
DTSTAMP:20260421T031949
CREATED:20251030T204251Z
LAST-MODIFIED:20251030T204720Z
UID:20894-1763552700-1763557200@wgsi.utoronto.ca
SUMMARY:Climate justice\, storytelling\, and democracy: How our public imagination shapes our political reality on climate action
DESCRIPTION:Guest speaker: Dr. Grace Nosek\, PhD and LLM\, author\, community organizer\, and scholar \nRSVP at uoft.me/gei-nov19 \nThe Gender and Environmental (In)Justice Lecture Series is funded and supported by the New College Initiatives Fund and the Women & Gender Studies Institute of the University of Toronto.
URL:https://wgsi.utoronto.ca/event/gei-nov19/
LOCATION:Online via Zoom
CATEGORIES:Co-Sponsored by WGSI,Gender and Environmental (In)Justice Series
ATTACH;FMTTYPE=image/png:https://wgsi.utoronto.ca/wp-content/uploads/2025/10/7.png
END:VEVENT
BEGIN:VEVENT
DTSTART;TZID=America/Toronto:20251125T130000
DTEND;TZID=America/Toronto:20251125T150000
DTSTAMP:20260421T031949
CREATED:20251118T193516Z
LAST-MODIFIED:20251118T193516Z
UID:20954-1764075600-1764082800@wgsi.utoronto.ca
SUMMARY:Student Exhibit for WGS 369: Postcolonial Art
DESCRIPTION:Join Dr. Wafaa Hasan and the students of WGS369: Studies in Postcolonialism for a showcase of their creative projects. \nLight refreshments will be served. No RSVP required.
URL:https://wgsi.utoronto.ca/event/369showcase-2025/
CATEGORIES:WGSI
ATTACH;FMTTYPE=image/png:https://wgsi.utoronto.ca/wp-content/uploads/2025/11/Option-4.png
END:VEVENT
BEGIN:VEVENT
DTSTART;TZID=America/Toronto:20251126T110000
DTEND;TZID=America/Toronto:20251126T120000
DTSTAMP:20260421T031949
CREATED:20251119T165829Z
LAST-MODIFIED:20251120T154739Z
UID:20961-1764154800-1764158400@wgsi.utoronto.ca
SUMMARY:Your Villain Origin Story in Environmental Injustice
DESCRIPTION:Guest Speaker: Skw’akw’as (Sunshine) Dunstan-Moore\, (she/her)   \nRSVP at uoft.me/gei-nov26-1 \nExploring the systemic injustices embedded in the climate and environmental movement\, this lecture examines how well-intentioned actions can perpetuate harm. Through my own “villain origin story\,” we will reimagine climate action that is truly just and equitable\, deconstructing institutions\, policies\, and individual roles through an anti-colonial\, intersectional\, and feminist lens. \n\nThe Gender and Environmental (In)Justice Lecture Series is funded and supported by the New College Initiatives Fund and the Women & Gender Studies Institute of the University of Toronto.
URL:https://wgsi.utoronto.ca/event/gei-nov26-1/
CATEGORIES:Gender and Environmental (In)Justice Series,WGSI
END:VEVENT
BEGIN:VEVENT
DTSTART;TZID=America/Toronto:20251126T120000
DTEND;TZID=America/Toronto:20251126T130000
DTSTAMP:20260421T031949
CREATED:20251030T204444Z
LAST-MODIFIED:20251030T204651Z
UID:20897-1764158400-1764162000@wgsi.utoronto.ca
SUMMARY:Radical Love as Method: Building Community and Reimagining Climate Activism
DESCRIPTION:Guest speaker: Miha Isik\, researcher at the Higher Education Quality Council of Ontario (HEQCO)\, founder of OK Youth! \nThe Gender and Environmental (In)Justice Lecture Series is funded and supported by the New College Initiatives Fund and the Women & Gender Studies Institute of the University of Toronto.
URL:https://wgsi.utoronto.ca/event/gei-nov26/
LOCATION:371 Bloor Street West\, Room FE230
CATEGORIES:Co-Sponsored by WGSI,Gender and Environmental (In)Justice Series
ATTACH;FMTTYPE=image/png:https://wgsi.utoronto.ca/wp-content/uploads/2025/10/8.png
END:VEVENT
END:VCALENDAR